BEGIN:VCALENDAR
VERSION:2.0
PRODID:-//Library Market//iCal Export//EN
BEGIN:VEVENT
SUMMARY:SOLID LIGHT - Glow in the Dark Embroidery
UID:631360
DTSTAMP:20260423T215200Z
DTSTART:20260706T050000Z
DTEND:20260712T050000Z
LOCATION:
DESCRIPTION:Create a special and dynamic work of art—-this embroidery pr
 oject shifts in appearance from day to night using glow-in-the-dark yarn. 
 Inspired by the shapes of light in the current Oklahoma Contemporary exhib
 it SOLID LIGHT, you can create vibrant, abstract embroidery...then watch i
 t transform when you turn off the light. This kit contains a sewing needle
  and is best for teens and adults. Kits are available while supplies last.
  This kit is made possible by Kirkpatrick Foundation.
URL:https://www.metrolibrary.org/event/solid-light-glow-dark-embroidery-63
 1360
END:VEVENT
END:VCALENDAR
