BEGIN:VCALENDAR
VERSION:2.0
PRODID:-//Library Market//iCal Export//EN
BEGIN:VEVENT
SUMMARY:Glow in the Dark Embroidery Take Home Kit
UID:631647
DTSTAMP:20260423T233400Z
DTSTART:20260526T140000Z
DTEND:20260602T220000Z
LOCATION:
DESCRIPTION:Create a special and dynamic work of art—-this embroidery pr
 oject shifts in appearance from day to night using glow-in-the-dark yarn. 
 Inspired by the shapes of light in the current Oklahoma Contemporary exhib
 it SOLID LIGHT, you can create vibrant, abstract embroidery...then watch i
 t transform when you turn off the light. This kit contains a sewing needle
  and is best for teens and adults. This kit is made possible by the Kirkp
 atrick Foundation.
URL:https://www.metrolibrary.org/event/glow-dark-embroidery-take-home-kit-
 631647
END:VEVENT
END:VCALENDAR
