BEGIN:VCALENDAR
VERSION:2.0
PRODID:-//Library Market//iCal Export//EN
BEGIN:VEVENT
SUMMARY:Pepper&#039;s Ghost Take Home Kit
UID:631658
DTSTAMP:20260424T004500Z
DTSTART:20260708T140000Z
DTEND:20260719T220000Z
LOCATION:
DESCRIPTION:Ever wonder how funhouses and classic movies created ghosts or
  fantastical beings out of thin air? Many were created by the Pepper&#039;
 s Ghost illusion. Popularized by John Henry Pepper, this optical illusion 
 projects an image of a real object across the room. The effect can be othe
 rworldly. This kit allows kids 7-12 to create their own smaller version a
 t home. This kit is made possible by the Kirkpatrick Foundation.
URL:https://www.metrolibrary.org/event/peppers-ghost-take-home-kit-631658
END:VEVENT
END:VCALENDAR
