BEGIN:VCALENDAR
VERSION:2.0
PRODID:-//Library Market//iCal Export//EN
BEGIN:VEVENT
SUMMARY:Gallery Giggles: Baby Storytime at Oklahoma Contemporary Arts Cent
 er
UID:631730
DTSTAMP:20260424T022600Z
DTSTART:20261209T170000Z
DTEND:20261209T180000Z
LOCATION:Oklahoma Contemporary Arts Center, 11 NW 11th Street, OKLAHOMA CI
 TY, OK 73103, United States
ROOM: Offsite (Downtown)
DESCRIPTION:Join us for a brand new baby storytime at Oklahoma Contemporar
 y Arts Center! One of Metro&#039;s skilled Early Childhood librarians wil
 l lead babies and their caregivers through an exciting art based storytime
 . After meeting in Oklahoma Contemporary&#039;s Early Childhood Studio to 
 meet, play, and chat, babies and their grownups will head to an  upstairs
  art gallery for stories, songs, rhymes, fingerplays, and more! This is an
  excellent opportunity to expose young children to visual art. After the p
 rogram, families are welcome to explore the rest of the galleries. While 
 this event is free and open to the public, reservations are required. Bes
 t for ages 0-24 months. We recommend one parent or caregiver per child. Su
 pervision of children is required in the galleries.     
URL:https://www.metrolibrary.org/event/gallerygigglesdec
END:VEVENT
END:VCALENDAR
