BEGIN:VCALENDAR
VERSION:2.0
PRODID:-//Library Market//iCal Export//EN
BEGIN:VEVENT
SUMMARY:Glow in the Dark Embroidery Take-Home Kit
UID:632109
DTSTAMP:20260425T193300Z
DTSTART:20260512T140000Z
DTEND:20260513T020000Z
LOCATION:10307 N Pennsylvania Ave, The Village, OK 73120, United States
ROOM: Onsite (The Village)
DESCRIPTION:Create a special and dynamic work of art—-this embroidery pr
 oject shifts in appearance from day to night using glow-in-the-dark yarn. 
 Inspired by the shapes of light in the current Oklahoma Contemporary exhib
 it SOLID LIGHT, you can create vibrant, abstract embroidery...then watch i
 t transform when you turn off the light. This kit contains a sewing needle
  and is best for teens and adults. This kit is made possible by Kirkpatri
 ck Foundation.(There will not be registration for this kit. It will be ava
 ilable for anyone who would like to pick it up.)
URL:https://www.metrolibrary.org/event/glow-dark-embroidery-take-home-kit-
 632109
END:VEVENT
END:VCALENDAR
